BEGIN:VCALENDAR
PRODID:-//github.com/rianjs/ical.net//NONSGML ical.net 4.0//EN
VERSION:2.0
BEGIN:VEVENT
DESCRIPTION:Velkommen til Økologisk Norges ekstraordinære\, digitale lands
 møte 12. november.
DTEND:20201111T230000Z
DTSTAMP:20200909T151208Z
DTSTART:20201112T170000Z
LAST-MODIFIED:20220119T165442Z
LOCATION:Digitalt
SEQUENCE:0
SUMMARY:Ekstraordinært landsmøte
UID:8c93af7c-8b47-4782-ac7e-26a865157a99@okologisknorge.no
URL:https://okologisknorge.no/hva-skjer/kalender-arkiv/2020/november/ekstr
 aordinaert-landsmoete/
END:VEVENT
END:VCALENDAR
