BEGIN:VCALENDAR
PRODID:-//github.com/rianjs/ical.net//NONSGML ical.net 4.0//EN
VERSION:2.0
BEGIN:VEVENT
DESCRIPTION:Lær hvordan landbruk kan drives i takt med naturen for å øke a
 vling\, redusere ugras\, øke kvalitet\, bli mer resistent mot skiftende v
 ær og lagre inn karbon i jorda (humus).
DTEND:20200217T230000Z
DTSTAMP:20191219T141213Z
DTSTART:20200218T080000Z
LAST-MODIFIED:20220119T165447Z
LOCATION:Fokhol gård\, Fokholgutua 216\, 2335 Stange
SEQUENCE:0
SUMMARY:Kurs med Hugh Lovel i Quantum Agriculture (videregående kurs - fir
 e dager) ( 1 )
UID:44829072-ddd3-4403-8864-16557602966d@okologisknorge.no
URL:https://okologisknorge.no/hva-skjer/kalender-arkiv/2020/februar/kurs-m
 ed-hugh-lovel-i-quantum-agriculture-videregaaende-kurs-fire-dager/
END:VEVENT
BEGIN:VEVENT
DESCRIPTION:Lær hvordan landbruk kan drives i takt med naturen for å øke a
 vling\, redusere ugras\, øke kvalitet\, bli mer resistent mot skiftende v
 ær og lagre inn karbon i jorda (humus).
DTEND:20200220T230000Z
DTSTAMP:20191219T141213Z
DTSTART:20200220T230000Z
LAST-MODIFIED:20220119T165447Z
LOCATION:Fokhol gård\, Fokholgutua 216\, 2335 Stange
SEQUENCE:0
SUMMARY:Kurs med Hugh Lovel i Quantum Agriculture (videregående kurs - fir
 e dager) ( 1 )
UID:9b704875-3043-4480-8f29-cd7db7ce69a1@okologisknorge.no
URL:https://okologisknorge.no/hva-skjer/kalender-arkiv/2020/februar/kurs-m
 ed-hugh-lovel-i-quantum-agriculture-videregaaende-kurs-fire-dager/
END:VEVENT
END:VCALENDAR
