BEGIN:VCALENDAR
PRODID:-//github.com/rianjs/ical.net//NONSGML ical.net 4.0//EN
VERSION:2.0
BEGIN:VEVENT
DESCRIPTION:Tillitsvalgte fra våre lag i hele landet er velkomne til et dø
 gn med faglig påfyll\, samtale/diskusjon om viktige saker for organisasjo
 nen\, erfaringsutveksling\, nettverksbygging god øko-mat og selskap.
DTEND:20191122T171500Z
DTSTAMP:20190906T100938Z
DTSTART:20191122T110000Z
LAST-MODIFIED:20231103T111504Z
LOCATION:Tøyen\, Oslo
SEQUENCE:0
SUMMARY:Tillitsvalgtsamling 2019 ( 1 )
UID:b4c45315-ff02-425b-8b37-ceabf70e8a8c@okologisknorge.no
URL:https://okologisknorge.no/hva-skjer/kalender-arkiv/2019/november/tilli
 tsvalgtsamling-2019/
END:VEVENT
BEGIN:VEVENT
DESCRIPTION:Tillitsvalgte fra våre lag i hele landet er velkomne til et dø
 gn med faglig påfyll\, samtale/diskusjon om viktige saker for organisasjo
 nen\, erfaringsutveksling\, nettverksbygging god øko-mat og selskap.
DTEND:20191123T110000Z
DTSTAMP:20190906T100938Z
DTSTART:20191123T083000Z
LAST-MODIFIED:20231103T111504Z
LOCATION:Tøyen\, Oslo
SEQUENCE:0
SUMMARY:Tillitsvalgtsamling 2019 ( 1 )
UID:f112405e-ecd2-43a4-8853-bb5ea0aa7faa@okologisknorge.no
URL:https://okologisknorge.no/hva-skjer/kalender-arkiv/2019/november/tilli
 tsvalgtsamling-2019/
END:VEVENT
END:VCALENDAR
