BEGIN:VCALENDAR
PRODID:-//github.com/rianjs/ical.net//NONSGML ical.net 4.0//EN
VERSION:2.0
BEGIN:VEVENT
DESCRIPTION:Hvordan kan vi bygge en bærekraftig matproduksjon i Norge? Kan
  vi produsere mer mat på norske ressurser\, og hva bør vi egentlig spise?
DTEND:20190925T220000Z
DTSTAMP:20190620T132212Z
DTSTART:20190926T160000Z
LAST-MODIFIED:20220119T165450Z
LOCATION:Litteraturhuset i Oslo\, Wergelandsveien 29\, 0167 Oslo
SEQUENCE:0
SUMMARY:Hva skal vi spise i framtiden og hvordan får vi det til?
UID:1386b95f-b581-4bb5-a352-e4b85bda3020@okologisknorge.no
URL:https://okologisknorge.no/hva-skjer/kalender-arkiv/2019/september/hva-
 skal-vi-spise-i-framtiden-og-hvordan-faar-vi-det-til/
END:VEVENT
END:VCALENDAR
