BEGIN:VCALENDAR
PRODID:-//github.com/rianjs/ical.net//NONSGML ical.net 4.0//EN
VERSION:2.0
BEGIN:VEVENT
DESCRIPTION:Velkommen til Økologisk Norge sin tillitsvalgtsamling 23. til 
 24. november 2018 på Bruket i Oslo!
DTEND:20181123T180000Z
DTSTAMP:20181105T145125Z
DTSTART:20181123T110000Z
LAST-MODIFIED:20231103T111517Z
LOCATION:Bruket i Oslo
SEQUENCE:0
SUMMARY:Tillitsvalgtsamling 2018 ( 1 )
UID:6d8096b4-9b89-44f7-b9ef-5385b4a45533@okologisknorge.no
URL:https://okologisknorge.no/hva-skjer/kalender-arkiv/2018/november/tilli
 tsvalgtsamling-2018/
END:VEVENT
BEGIN:VEVENT
DESCRIPTION:Velkommen til Økologisk Norge sin tillitsvalgtsamling 23. til 
 24. november 2018 på Bruket i Oslo!
DTEND:20181124T150000Z
DTSTAMP:20181105T145125Z
DTSTART:20181124T090000Z
LAST-MODIFIED:20231103T111517Z
LOCATION:Bruket i Oslo
SEQUENCE:0
SUMMARY:Tillitsvalgtsamling 2018 ( 1 )
UID:f0cbcead-9fca-4c57-93c2-a2530e45a791@okologisknorge.no
URL:https://okologisknorge.no/hva-skjer/kalender-arkiv/2018/november/tilli
 tsvalgtsamling-2018/
END:VEVENT
END:VCALENDAR
