BEGIN:VCALENDAR
PRODID:-//github.com/rianjs/ical.net//NONSGML ical.net 4.0//EN
VERSION:2.0
BEGIN:VEVENT
DESCRIPTION:Friluftslivet skal satse mer på bærekraftig og naturvennlig ma
 t - hvordan kan du som bonde være med på denne satsingen?
DTEND:20181022T220000Z
DTSTAMP:20181005T142126Z
DTSTART:20181023T090000Z
LAST-MODIFIED:20220119T165434Z
LOCATION:Valbjør gard\, Vågå\, Øvre Nordheradsvegen 486\, 2680 Vågå
SEQUENCE:0
SUMMARY:Åpent møte\, Vågå: Omsetningsmuligheter for økologisk lokalmat
UID:5792f62d-dd78-49b7-a0f6-1dd6f2a6a354@okologisknorge.no
URL:https://okologisknorge.no/hva-skjer/kalender-arkiv/prosjekt-events/oek
 oloeft-events/aapent-moete-vaagaa-omsetningsmuligheter-for-oekologisk-lok
 almat/
END:VEVENT
END:VCALENDAR
