BEGIN:VCALENDAR
PRODID:-//github.com/rianjs/ical.net//NONSGML ical.net 4.0//EN
VERSION:2.0
BEGIN:VEVENT
DESCRIPTION:Vi på Gartneriet inviterer deg til å feire susende bier og en 
 spirende hage.
DTEND:20260425T140000Z
DTSTAMP:20260421T094746Z
DTSTART:20260425T093000Z
LAST-MODIFIED:20260421T095332Z
LOCATION:Gartneriet Bygdø Kongsgård Museumsveien 15 Oslo\, 0287
SEQUENCE:0
SUMMARY:Vår på Gartneriet
UID:bbbacc06-d604-4203-8050-6fa69731379d@okologisknorge.no
URL:https://okologisknorge.no/hva-skjer/april/vaar-paa-gartneriet/
END:VEVENT
END:VCALENDAR
