BEGIN:VCALENDAR
PRODID:-//github.com/rianjs/ical.net//NONSGML ical.net 4.0//EN
VERSION:2.0
BEGIN:VEVENT
DESCRIPTION:FRø er en sanselig og poetisk film om frøenes stille kraft og 
 dem\, som viderefører den. Introduksjon ved regissør Isabelle Denaro\, sa
 mtale etter filmen.Arrangementet er gratis.Ingen påmelding.
DTEND:20260603T220000Z
DTSTAMP:20260420T095731Z
DTSTART:20260604T160000Z
LAST-MODIFIED:20260420T101642Z
LOCATION:Asker bibliotek\, Strøket 15A\, 1383 Asker
SEQUENCE:0
SUMMARY:FRø - filmvisning og regissørmøte
UID:50849d0a-559f-4609-b379-ce367a9958b3@okologisknorge.no
URL:https://okologisknorge.no/hva-skjer/juni/froe-filmvisning-og-regissoer
 moete/
END:VEVENT
END:VCALENDAR
