BEGIN:VCALENDAR
PRODID:-//github.com/rianjs/ical.net//NONSGML ical.net 4.0//EN
VERSION:2.0
BEGIN:VEVENT
DESCRIPTION:Velkommen til foredrag om tang og tare med Melanie Endemann!
DTEND:20260222T230000Z
DTSTAMP:20260128T140057Z
DTSTART:20260223T170000Z
LAST-MODIFIED:20260218T110059Z
LOCATION:Grimstad bibliotek\, Jernbanebrygga 1\, Grimstad
SEQUENCE:0
SUMMARY:Foredrag og årsmøte i Økologisk Agder
UID:b938c03a-4771-47d0-8d7a-ad5d9f38fcd0@okologisknorge.no
URL:https://okologisknorge.no/hva-skjer/februar/foredrag-og-aarsmoete-i-oe
 kologisk-agder/
END:VEVENT
END:VCALENDAR
