BEGIN:VCALENDAR
PRODID:-//github.com/rianjs/ical.net//NONSGML ical.net 4.0//EN
VERSION:2.0
BEGIN:VEVENT
DESCRIPTION:Vi serverer hjemmelaget suppe og deilige kaker\, og selger egg
  fra egne høner.
DTEND:20250906T220000Z
DTSTAMP:20250813T104220Z
DTSTART:20250907T100000Z
LAST-MODIFIED:20250814T172033Z
LOCATION:Lørenskog bygdemuseum\, Skårer gård\, Løkenåsveien 29\, Lørenskog
SEQUENCE:0
SUMMARY:Søndagskafé med Økolaget
UID:8a708c64-fdea-43c2-9a58-df476e3258b3@okologisknorge.no
URL:https://okologisknorge.no/hva-skjer/kalender-arkiv/2025/september/soen
 dagskafe-med-oekolaget/
END:VEVENT
END:VCALENDAR
