BEGIN:VCALENDAR
PRODID:-//github.com/rianjs/ical.net//NONSGML ical.net 4.0//EN
VERSION:2.0
BEGIN:VEVENT
DESCRIPTION:Forfatter Andreas Tjernshaugen kommer for å fortelle fra boka 
 "Et høneliv" og vi får hilse på hønene som holder til på Skårer gård.
DTEND:20250826T220000Z
DTSTAMP:20250813T095203Z
DTSTART:20250827T160000Z
LAST-MODIFIED:20250814T172215Z
LOCATION:Lørenskog bygdemuseum\,  Løkenåsveien 29\, 1471 Lørenskog
SEQUENCE:0
SUMMARY:Grønn møteplass: Et høneliv
UID:99d166ff-d997-4143-8f20-cd5ad72965c9@okologisknorge.no
URL:https://okologisknorge.no/hva-skjer/kalender-arkiv/2025/august/groenn-
 moeteplass-et-hoeneliv/
END:VEVENT
END:VCALENDAR
