BEGIN:VCALENDAR
PRODID:-//github.com/rianjs/ical.net//NONSGML ical.net 4.0//EN
VERSION:2.0
BEGIN:VEVENT
DESCRIPTION:Felles busstur på Randaberg med besøk av tre gårder
DTEND:20250613T220000Z
DTSTAMP:20250528T202024Z
DTSTART:20250614T090000Z
LAST-MODIFIED:20250530T114151Z
LOCATION:Randaberg
SEQUENCE:0
SUMMARY:Rundtur med gårdsbesøk på Randaberg
UID:78ed0848-080e-4c7e-b3e1-cd65cd0ee146@okologisknorge.no
URL:https://okologisknorge.no/hva-skjer/kalender-arkiv/2025/juni/rundtur-m
 ed-gaardsbesoek-paa-randaberg/
END:VEVENT
END:VCALENDAR
