BEGIN:VCALENDAR
PRODID:-//github.com/rianjs/ical.net//NONSGML ical.net 4.0//EN
VERSION:2.0
BEGIN:VEVENT
DESCRIPTION:Velkommen til en spennende ettermiddag og kveld på Ellingsrud
DTEND:20250309T230000Z
DTSTAMP:20250224T132201Z
DTSTART:20250310T163000Z
LAST-MODIFIED:20250311T142040Z
LOCATION:Ombruket\, Edvard Munchs vei 51
SEQUENCE:0
SUMMARY:Årsmøte 2025 og idéseminar for beredskapshage og samdyrking
UID:4cb9c4c7-fcae-48f5-8320-71d46815f851@okologisknorge.no
URL:https://okologisknorge.no/hva-skjer/kalender-arkiv/2025/mars/aarsmoete
 -2025-og-ideseminar-for-beredskapshage-og-samdyrking/
END:VEVENT
END:VCALENDAR
