BEGIN:VCALENDAR
PRODID:-//github.com/rianjs/ical.net//NONSGML ical.net 4.0//EN
VERSION:2.0
BEGIN:VEVENT
DESCRIPTION:Økologisk Agder inviterer til årsmøte og spennende foredrag: D
 yrkeglede og beredskap i egen hage.
DTEND:20250225T190000Z
DTSTAMP:20250117T150147Z
DTSTART:20250225T170000Z
LAST-MODIFIED:20250228T115040Z
LOCATION:Lillesand folkebibliotek\, Strandgata 6
SEQUENCE:0
SUMMARY:Årsmøte og foredrag: Dyrkeglede og beredskap i egen hage!
UID:b97d47b9-26bb-40ce-9fe7-53ffb333e815@okologisknorge.no
URL:https://okologisknorge.no/hva-skjer/kalender-arkiv/2025/februar/aarsmo
 ete-og-foredrag-dyrkeglede-og-beredskap-i-egen-hage/
END:VEVENT
END:VCALENDAR
