BEGIN:VCALENDAR
PRODID:-//github.com/rianjs/ical.net//NONSGML ical.net 4.0//EN
VERSION:2.0
BEGIN:VEVENT
DESCRIPTION:Kom på årets viktigste nasjonale møteplass for småskala grønns
 aksprodusenter!
DTEND:20231019T220000Z
DTSTAMP:20230623T104032Z
DTSTART:20231020T150000Z
LAST-MODIFIED:20230629T091959Z
LOCATION:Fokhol gård\, Fokholgutua 216 2335 Stange
SEQUENCE:0
SUMMARY:Markedshager og andelslandbruk ( 1 )
UID:87e8447a-7428-40eb-a676-496657a66568@okologisknorge.no
URL:https://okologisknorge.no/hva-skjer/kalender-arkiv/2023/oktober/marked
 shager-og-andelslandbruk/
END:VEVENT
BEGIN:VEVENT
DESCRIPTION:Kom på årets viktigste nasjonale møteplass for småskala grønns
 aksprodusenter!
DTEND:20231021T220000Z
DTSTAMP:20230623T104032Z
DTSTART:20231021T220000Z
LAST-MODIFIED:20230629T091959Z
LOCATION:Fokhol gård\, Fokholgutua 216 2335 Stange
SEQUENCE:0
SUMMARY:Markedshager og andelslandbruk ( 1 )
UID:c34dd595-8810-4439-a64e-8c663874c66b@okologisknorge.no
URL:https://okologisknorge.no/hva-skjer/kalender-arkiv/2023/oktober/marked
 shager-og-andelslandbruk/
END:VEVENT
END:VCALENDAR
