BEGIN:VCALENDAR
PRODID:-//github.com/rianjs/ical.net//NONSGML ical.net 4.0//EN
VERSION:2.0
BEGIN:VEVENT
DESCRIPTION:
DTEND:20230601T130000Z
DTSTAMP:20230515T114145Z
DTSTART:20230601T090000Z
LAST-MODIFIED:20230524T154627Z
LOCATION:Vidarheimsalen\, Kulturhuset på Tolga\, Ivarsveien 8\, 2540 Tolga
SEQUENCE:0
SUMMARY:Fagmøte: Rabarbraproduksjon i fjellregionen
UID:c91e1b5f-7510-4552-95f1-7e8e703c2397@okologisknorge.no
URL:https://okologisknorge.no/hva-skjer/kalender-arkiv/2023/juni/fagmoete-
 rabarbraproduksjon-i-fjellregionen/
END:VEVENT
END:VCALENDAR
