BEGIN:VCALENDAR
PRODID:-//github.com/rianjs/ical.net//NONSGML ical.net 4.0//EN
VERSION:2.0
BEGIN:VEVENT
DESCRIPTION:For alle tillitsvalgte og ansatte i Økologisk Norge
DTEND:20230428T160000Z
DTSTAMP:20221017T161855Z
DTSTART:20230428T100000Z
LAST-MODIFIED:20231103T111610Z
LOCATION:Oslo\, Grønlandsleiret 31/Tveten andelsgård\, Tvetenveien 101
SEQUENCE:0
SUMMARY:Vårsamling 2023 ( 1 )
UID:dcf31979-2585-4c30-a051-46f97992b0f4@okologisknorge.no
URL:https://okologisknorge.no/hva-skjer/kalender-arkiv/2023/april/vaarsaml
 ing-2023/
END:VEVENT
BEGIN:VEVENT
DESCRIPTION:For alle tillitsvalgte og ansatte i Økologisk Norge
DTEND:20230429T120000Z
DTSTAMP:20221017T161855Z
DTSTART:20230429T070000Z
LAST-MODIFIED:20231103T111610Z
LOCATION:Oslo\, Grønlandsleiret 31/Tveten andelsgård\, Tvetenveien 101
SEQUENCE:0
SUMMARY:Vårsamling 2023 ( 1 )
UID:16cfd092-f300-436d-928c-2792afc49aa8@okologisknorge.no
URL:https://okologisknorge.no/hva-skjer/kalender-arkiv/2023/april/vaarsaml
 ing-2023/
END:VEVENT
END:VCALENDAR
