BEGIN:VCALENDAR
PRODID:-//github.com/rianjs/ical.net//NONSGML ical.net 4.0//EN
VERSION:2.0
BEGIN:VEVENT
DESCRIPTION:Bli med til Aurland for å lære\, erfare og sosialisere med and
 re småskala grønnsaksdyrkere fra hele Norge!
DTEND:20221013T220000Z
DTSTAMP:20220912T091621Z
DTSTART:20221014T130000Z
LAST-MODIFIED:20230327T112852Z
LOCATION:Sogn Jord- og Hagebruksskule\, Skulevegen 24\, 5745 Aurland
SEQUENCE:0
SUMMARY:Nasjonal nettverkssamling for andelslandbruk\, og andre småskala g
 rønnsaksprodusenter ( 1 )
UID:dbcb3d96-a43c-4bb4-b282-2c7b020fda4e@okologisknorge.no
URL:https://okologisknorge.no/hva-skjer/kalender-arkiv/2022/oktober/nasjon
 al-nettverkssamling-for-andelslandbruk-og-andre-smaaskala-groennsaksprodu
 senter/
END:VEVENT
BEGIN:VEVENT
DESCRIPTION:Bli med til Aurland for å lære\, erfare og sosialisere med and
 re småskala grønnsaksdyrkere fra hele Norge!
DTEND:20221015T220000Z
DTSTAMP:20220912T091621Z
DTSTART:20221015T220000Z
LAST-MODIFIED:20230327T112852Z
LOCATION:Sogn Jord- og Hagebruksskule\, Skulevegen 24\, 5745 Aurland
SEQUENCE:0
SUMMARY:Nasjonal nettverkssamling for andelslandbruk\, og andre småskala g
 rønnsaksprodusenter ( 1 )
UID:97320e7e-8368-4271-bd59-24d04f07b206@okologisknorge.no
URL:https://okologisknorge.no/hva-skjer/kalender-arkiv/2022/oktober/nasjon
 al-nettverkssamling-for-andelslandbruk-og-andre-smaaskala-groennsaksprodu
 senter/
END:VEVENT
END:VCALENDAR
