BEGIN:VCALENDAR
PRODID:-//github.com/rianjs/ical.net//NONSGML ical.net 4.0//EN
VERSION:2.0
BEGIN:VEVENT
DESCRIPTION:holder Åpen økologisk gård!
DTEND:20220924T220000Z
DTSTAMP:20220817T152724Z
DTSTART:20220924T220000Z
LAST-MODIFIED:20230807T132546Z
LOCATION:Inderøy\, Nord- Trøndelag
SEQUENCE:0
SUMMARY:Inderøy andelslandbruk
UID:92b9fb61-2f77-4c20-b63c-ac75c4bb62b7@okologisknorge.no
URL:https://okologisknorge.no/hva-skjer/kalender-arkiv/2022/september/inde
 roey-andelslandbruk/
END:VEVENT
END:VCALENDAR
