BEGIN:VCALENDAR
PRODID:-//github.com/rianjs/ical.net//NONSGML ical.net 4.0//EN
VERSION:2.0
BEGIN:VEVENT
DESCRIPTION:holder Åpen økologisk gård!
DTEND:20220924T130000Z
DTSTAMP:20220816T135951Z
DTSTART:20220924T090000Z
LAST-MODIFIED:20230807T130913Z
LOCATION:Brekkhaug Gård\, Brekkestø\, Aust- Agder
SEQUENCE:0
SUMMARY:Brekkestø hage
UID:92b9fb61-2f77-4c20-b63c-ac75c4bb62b7@okologisknorge.no
URL:https://okologisknorge.no/hva-skjer/kalender-arkiv/2022/september/brek
 kestoe-hage/
END:VEVENT
END:VCALENDAR
